BEGIN:VCALENDAR
VERSION:2.0
PRODID:-//Bolingbrook Golf Club - ECPv6.15.18//NONSGML v1.0//EN
CALSCALE:GREGORIAN
METHOD:PUBLISH
X-WR-CALNAME:Bolingbrook Golf Club
X-ORIGINAL-URL:https://www.bolingbrookgolfclub.com
X-WR-CALDESC:Events for Bolingbrook Golf Club
REFRESH-INTERVAL;VALUE=DURATION:PT1H
X-Robots-Tag:noindex
X-PUBLISHED-TTL:PT1H
BEGIN:VTIMEZONE
TZID:America/Chicago
BEGIN:DAYLIGHT
TZOFFSETFROM:-0600
TZOFFSETTO:-0500
TZNAME:CDT
DTSTART:20240310T080000
END:DAYLIGHT
BEGIN:STANDARD
TZOFFSETFROM:-0500
TZOFFSETTO:-0600
TZNAME:CST
DTSTART:20241103T070000
END:STANDARD
BEGIN:DAYLIGHT
TZOFFSETFROM:-0600
TZOFFSETTO:-0500
TZNAME:CDT
DTSTART:20250309T080000
END:DAYLIGHT
BEGIN:STANDARD
TZOFFSETFROM:-0500
TZOFFSETTO:-0600
TZNAME:CST
DTSTART:20251102T070000
END:STANDARD
BEGIN:DAYLIGHT
TZOFFSETFROM:-0600
TZOFFSETTO:-0500
TZNAME:CDT
DTSTART:20260308T080000
END:DAYLIGHT
BEGIN:STANDARD
TZOFFSETFROM:-0500
TZOFFSETTO:-0600
TZNAME:CST
DTSTART:20261101T070000
END:STANDARD
BEGIN:DAYLIGHT
TZOFFSETFROM:-0600
TZOFFSETTO:-0500
TZNAME:CDT
DTSTART:20270314T080000
END:DAYLIGHT
BEGIN:STANDARD
TZOFFSETFROM:-0500
TZOFFSETTO:-0600
TZNAME:CST
DTSTART:20271107T070000
END:STANDARD
END:VTIMEZONE
BEGIN:VEVENT
DTSTART;TZID=America/Chicago:20260317T100000
DTEND;TZID=America/Chicago:20260317T170000
DTSTAMP:20260423T224241
CREATED:20260219T171502Z
LAST-MODIFIED:20260219T171502Z
UID:3429-1773741600-1773766800@www.bolingbrookgolfclub.com
SUMMARY:Shamrock Scramble
DESCRIPTION:🍀 Shamrock Scramble 🍀\nKick off St. Patrick’s Day on the course at Bolingbrook Golf Club with our Shamrock Scramble\, a fun and competitive 2-person event perfect for golfers of all skill levels. \nJoin us Tuesday\, March 17\, for an 18-hole\, flighted scramble featuring a 10:00 AM shotgun start. Each entry includes golf with cart\, team prizes\, Closest to the Pin contests\, a Long Drive contest\, and two drink tickets per player. Optional Gross Team Skins will also be available. \nEvent Details\nDate: Tuesday\, March 17\, 2026Start: 10:00 AM ShotgunFormat: 18 Holes • 2-Person Scramble (flighted after play) \nEntry Fee\n• $80 per player / $160 per team• BGC Golf Members: $60 per member \nRegistration\nClick the link HERE or completed entry forms may be returned to the Golf Shop or emailed toRyan McLaughlin: rmclaughlin@bolingbrookgolfclub.com \nFor questions\, please contact the Golf Shop at (630) 771-9400 ext. 4001. \nGrab a partner and celebrate St. Patrick’s Day with great golf\, friendly competition\, and plenty of fun on the fairways.
URL:https://www.bolingbrookgolfclub.com/event/2026-shamrock-scramble-bolingbrook/
LOCATION:Bolingbrook Golf Club\, 2001 Rodeo Drive\, Bolingbrook\, IL
CATEGORIES:Scramble,St. Patrick's Day
END:VEVENT
BEGIN:VEVENT
DTSTART;TZID=America/Chicago:20250704T070000
DTEND;TZID=America/Chicago:20250704T130000
DTSTAMP:20260423T224241
CREATED:20250610T181507Z
LAST-MODIFIED:20250610T181544Z
UID:2307-1751612400-1751634000@www.bolingbrookgolfclub.com
SUMMARY:The All-American 4th of July Scramble
DESCRIPTION:Start your 4th of July with a tradition worth celebrating! Join us for The All-American 4th of July Scramble\, a fun and competitive\nfour-player scramble at Bolingbrook Golf Club.\n\n Friday\, July 4\, 2025 7:00am Shotgun Start\n$175 per player | $100 for Members\n(Limited to 36 foursomes / 144 players total)\n\nYour entry includes: 18 Holes with Cart  Range Balls  Breakfast + Boxed Lunch  Tee Gift\n\nFormat:Four-player scramble\, flighted after scoring. Flights based on field size.\n\nOn-Course Extras:\nClosest to the Pin | Long Drive | Optional Team Skins ($40 cash per team)\n\n Registration is open! Closes Tuesday\, July 1 at 8:00am or when full\nTo register click the link below \nhttps://www.golfgenius.com/register?league_id=481386\n\nFor more information contact Ryan McLaughlin at rmclaughlin@bolingbrookgolfclub.com | (630) 771-9400 x4068
URL:https://www.bolingbrookgolfclub.com/event/the-all-american-4th-of-july-scramble/
LOCATION:Bolingbrook Golf Club\, 2001 Rodeo Drive\, Bolingbrook\, IL
CATEGORIES:4th of July,Scramble
END:VEVENT
END:VCALENDAR