BEGIN:VCALENDAR
VERSION:2.0
PRODID:-//Bolingbrook Golf Club - ECPv6.15.18//NONSGML v1.0//EN
CALSCALE:GREGORIAN
METHOD:PUBLISH
X-ORIGINAL-URL:https://www.bolingbrookgolfclub.com
X-WR-CALDESC:Events for Bolingbrook Golf Club
REFRESH-INTERVAL;VALUE=DURATION:PT1H
X-Robots-Tag:noindex
X-PUBLISHED-TTL:PT1H
BEGIN:VTIMEZONE
TZID:America/Chicago
BEGIN:DAYLIGHT
TZOFFSETFROM:-0600
TZOFFSETTO:-0500
TZNAME:CDT
DTSTART:20240310T080000
END:DAYLIGHT
BEGIN:STANDARD
TZOFFSETFROM:-0500
TZOFFSETTO:-0600
TZNAME:CST
DTSTART:20241103T070000
END:STANDARD
BEGIN:DAYLIGHT
TZOFFSETFROM:-0600
TZOFFSETTO:-0500
TZNAME:CDT
DTSTART:20250309T080000
END:DAYLIGHT
BEGIN:STANDARD
TZOFFSETFROM:-0500
TZOFFSETTO:-0600
TZNAME:CST
DTSTART:20251102T070000
END:STANDARD
BEGIN:DAYLIGHT
TZOFFSETFROM:-0600
TZOFFSETTO:-0500
TZNAME:CDT
DTSTART:20260308T080000
END:DAYLIGHT
BEGIN:STANDARD
TZOFFSETFROM:-0500
TZOFFSETTO:-0600
TZNAME:CST
DTSTART:20261101T070000
END:STANDARD
BEGIN:DAYLIGHT
TZOFFSETFROM:-0600
TZOFFSETTO:-0500
TZNAME:CDT
DTSTART:20270314T080000
END:DAYLIGHT
BEGIN:STANDARD
TZOFFSETFROM:-0500
TZOFFSETTO:-0600
TZNAME:CST
DTSTART:20271107T070000
END:STANDARD
END:VTIMEZONE
BEGIN:VEVENT
DTSTART;TZID=America/Chicago:20260417T203000
DTEND;TZID=America/Chicago:20260417T210000
DTSTAMP:20260423T160456
CREATED:20260413T151537Z
LAST-MODIFIED:20260413T151537Z
UID:3563-1776457800-1776459600@www.bolingbrookgolfclub.com
SUMMARY:Fireworks (Private Event)
DESCRIPTION:Bolingbrook Golf Club will host a private event on Friday evening featuring a fireworks display at approximately 8:30 PM. Nearby residents and guests may hear or see the fireworks. \nThank you for your understanding.
URL:https://www.bolingbrookgolfclub.com/event/bolingbrook-fireworks-private-event-2/
LOCATION:Bolingbrook Golf Club\, 2001 Rodeo Drive\, Bolingbrook\, IL
CATEGORIES:Fireworks,Private Event
END:VEVENT
BEGIN:VEVENT
DTSTART;TZID=America/Chicago:20260228T210000
DTEND;TZID=America/Chicago:20260228T213000
DTSTAMP:20260423T160456
CREATED:20260224T161912Z
LAST-MODIFIED:20260224T161912Z
UID:3441-1772312400-1772314200@www.bolingbrookgolfclub.com
SUMMARY:Fireworks Display (Private Event)
DESCRIPTION:Bolingbrook Golf Club will host a private event on Saturday evening featuring a fireworks display at approximately 9:00 PM. Nearby residents and guests may hear or see the fireworks. \nThank you for your understanding.
URL:https://www.bolingbrookgolfclub.com/event/bolingbrook-fireworks-private-event/
LOCATION:Bolingbrook Golf Club\, 2001 Rodeo Drive\, Bolingbrook\, IL
CATEGORIES:Fireworks
END:VEVENT
BEGIN:VEVENT
DTSTART;TZID=America/Chicago:20251025T183000
DTEND;TZID=America/Chicago:20251025T190000
DTSTAMP:20260423T160456
CREATED:20250929T155744Z
LAST-MODIFIED:20250929T155744Z
UID:2780-1761417000-1761418800@www.bolingbrookgolfclub.com
SUMMARY:Fireworks for a Private Event
DESCRIPTION:As a courtesy to our neighbors\, we’d like to inform you that Bolingbrook Golf Club will be hosting a private event on October 25th\, which will conclude with a fireworks display at approximately 6:30pm. \nWhile the event itself is not open to the public\, we wanted to give advance notice as fireworks may be heard in the surrounding area. We appreciate your understanding and thank you for being a great neighbor!
URL:https://www.bolingbrookgolfclub.com/event/fireworks-for-a-private-event-18/
LOCATION:Bolingbrook Golf Club\, 2001 Rodeo Drive\, Bolingbrook\, IL
CATEGORIES:Fireworks
END:VEVENT
BEGIN:VEVENT
DTSTART;TZID=America/Chicago:20251004T200000
DTEND;TZID=America/Chicago:20251004T203000
DTSTAMP:20260423T160456
CREATED:20250929T155443Z
LAST-MODIFIED:20250929T155443Z
UID:2778-1759608000-1759609800@www.bolingbrookgolfclub.com
SUMMARY:Fireworks for a Private Event
DESCRIPTION:As a courtesy to our neighbors\, we’d like to inform you that Bolingbrook Golf Club will be hosting a private event on October 4th\, which will conclude with a fireworks display at approximately 8:00pm. \nWhile the event itself is not open to the public\, we wanted to give advance notice as fireworks may be heard in the surrounding area. We appreciate your understanding and thank you for being a great neighbor!
URL:https://www.bolingbrookgolfclub.com/event/fireworks-for-a-private-event-17/
LOCATION:Bolingbrook Golf Club\, 2001 Rodeo Drive\, Bolingbrook\, IL
CATEGORIES:Fireworks
END:VEVENT
BEGIN:VEVENT
DTSTART;TZID=America/Chicago:20250816T203000
DTEND;TZID=America/Chicago:20250816T210000
DTSTAMP:20260423T160456
CREATED:20250618T194004Z
LAST-MODIFIED:20250618T194004Z
UID:2380-1755376200-1755378000@www.bolingbrookgolfclub.com
SUMMARY:Fireworks for a Private Event
DESCRIPTION:As a courtesy to our neighbors\, we’d like to inform you that Bolingbrook Golf Club will be hosting a private event on August 16th\, which will conclude with a fireworks display at approximately 8:30pm. \nWhile the event itself is not open to the public\, we wanted to give advance notice as fireworks may be heard in the surrounding area. We appreciate your understanding and thank you for being a great neighbor!
URL:https://www.bolingbrookgolfclub.com/event/fireworks-for-a-private-event-16/
LOCATION:Bolingbrook Golf Club\, 2001 Rodeo Drive\, Bolingbrook\, IL
CATEGORIES:Fireworks
END:VEVENT
BEGIN:VEVENT
DTSTART;TZID=America/Chicago:20250801T203000
DTEND;TZID=America/Chicago:20250801T210000
DTSTAMP:20260423T160456
CREATED:20250618T193848Z
LAST-MODIFIED:20250618T193848Z
UID:2378-1754080200-1754082000@www.bolingbrookgolfclub.com
SUMMARY:Fireworks for a Private Event
DESCRIPTION:As a courtesy to our neighbors\, we’d like to inform you that Bolingbrook Golf Club will be hosting a private event on August 1st\, which will conclude with a fireworks display at approximately 8:30pm. \nWhile the event itself is not open to the public\, we wanted to give advance notice as fireworks may be heard in the surrounding area. We appreciate your understanding and thank you for being a great neighbor!
URL:https://www.bolingbrookgolfclub.com/event/fireworks-for-a-private-event-15/
LOCATION:Bolingbrook Golf Club\, 2001 Rodeo Drive\, Bolingbrook\, IL
CATEGORIES:Fireworks
END:VEVENT
BEGIN:VEVENT
DTSTART;TZID=America/Chicago:20250726T203000
DTEND;TZID=America/Chicago:20250726T210000
DTSTAMP:20260423T160456
CREATED:20250618T193726Z
LAST-MODIFIED:20250618T193726Z
UID:2376-1753561800-1753563600@www.bolingbrookgolfclub.com
SUMMARY:Fireworks for a Private Event
DESCRIPTION:As a courtesy to our neighbors\, we’d like to inform you that Bolingbrook Golf Club will be hosting a private event on July 26th\, which will conclude with a fireworks display at approximately 8:30pm. \nWhile the event itself is not open to the public\, we wanted to give advance notice as fireworks may be heard in the surrounding area. We appreciate your understanding and thank you for being a great neighbor!
URL:https://www.bolingbrookgolfclub.com/event/fireworks-for-a-private-event-14/
LOCATION:Bolingbrook Golf Club\, 2001 Rodeo Drive\, Bolingbrook\, IL
CATEGORIES:Fireworks
END:VEVENT
BEGIN:VEVENT
DTSTART;TZID=America/Chicago:20250712T203000
DTEND;TZID=America/Chicago:20250712T210000
DTSTAMP:20260423T160456
CREATED:20250618T193603Z
LAST-MODIFIED:20250618T193612Z
UID:2374-1752352200-1752354000@www.bolingbrookgolfclub.com
SUMMARY:Fireworks for a Private Event
DESCRIPTION:As a courtesy to our neighbors\, we’d like to inform you that Bolingbrook Golf Club will be hosting a private event on July 12th\, which will conclude with a fireworks display at approximately 8:30pm. \nWhile the event itself is not open to the public\, we wanted to give advance notice as fireworks may be heard in the surrounding area. We appreciate your understanding and thank you for being a great neighbor!
URL:https://www.bolingbrookgolfclub.com/event/fireworks-for-a-private-event-13/
LOCATION:IL
CATEGORIES:Fireworks
END:VEVENT
BEGIN:VEVENT
DTSTART;TZID=America/Chicago:20250628T203000
DTEND;TZID=America/Chicago:20250628T210000
DTSTAMP:20260423T160456
CREATED:20250618T193449Z
LAST-MODIFIED:20250618T193449Z
UID:2372-1751142600-1751144400@www.bolingbrookgolfclub.com
SUMMARY:Fireworks for a Private Event
DESCRIPTION:As a courtesy to our neighbors\, we’d like to inform you that Bolingbrook Golf Club will be hosting a private event on June 28th\, which will conclude with a fireworks display at approximately 8:30pm. \nWhile the event itself is not open to the public\, we wanted to give advance notice as fireworks may be heard in the surrounding area. We appreciate your understanding and thank you for being a great neighbor!
URL:https://www.bolingbrookgolfclub.com/event/fireworks-for-a-private-event-12/
LOCATION:Bolingbrook Golf Club\, 2001 Rodeo Drive\, Bolingbrook\, IL
CATEGORIES:Fireworks
END:VEVENT
BEGIN:VEVENT
DTSTART;TZID=America/Chicago:20250621T203000
DTEND;TZID=America/Chicago:20250621T210000
DTSTAMP:20260423T160456
CREATED:20250618T193313Z
LAST-MODIFIED:20250618T193313Z
UID:2370-1750537800-1750539600@www.bolingbrookgolfclub.com
SUMMARY:Fireworks for a Private Event
DESCRIPTION:As a courtesy to our neighbors\, we’d like to inform you that Bolingbrook Golf Club will be hosting a private event on June 21st\, which will conclude with a fireworks display at approximately 8:30pm. \nWhile the event itself is not open to the public\, we wanted to give advance notice as fireworks may be heard in the surrounding area. We appreciate your understanding and thank you for being a great neighbor!
URL:https://www.bolingbrookgolfclub.com/event/fireworks-for-a-private-event-11/
LOCATION:Bolingbrook Golf Club\, 2001 Rodeo Drive\, Bolingbrook\, IL
CATEGORIES:Fireworks
END:VEVENT
BEGIN:VEVENT
DTSTART;TZID=America/Chicago:20250531T203000
DTEND;TZID=America/Chicago:20250531T210000
DTSTAMP:20260423T160456
CREATED:20250414T200901Z
LAST-MODIFIED:20250421T202550Z
UID:2030-1748723400-1748725200@www.bolingbrookgolfclub.com
SUMMARY:Fireworks for a Private Event
DESCRIPTION:As a courtesy to our neighbors\, we’d like to inform you that Bolingbrook Golf Club will be hosting a private event on May 31st\, which will conclude with a fireworks display at approximately 8:30pm. \nWhile the event itself is not open to the public\, we wanted to give advance notice as fireworks may be heard in the surrounding area. We appreciate your understanding and thank you for being a great neighbor!
URL:https://www.bolingbrookgolfclub.com/event/fireworks-7/
LOCATION:Bolingbrook Golf Club\, 2001 Rodeo Drive\, Bolingbrook\, IL
CATEGORIES:Fireworks
END:VEVENT
BEGIN:VEVENT
DTSTART;TZID=America/Chicago:20250510T201500
DTEND;TZID=America/Chicago:20250510T204500
DTSTAMP:20260423T160456
CREATED:20250414T200757Z
LAST-MODIFIED:20250421T202142Z
UID:2028-1746908100-1746909900@www.bolingbrookgolfclub.com
SUMMARY:Fireworks for a Private Event
DESCRIPTION:As a courtesy to our neighbors\, we’d like to inform you that Bolingbrook Golf Club will be hosting a private event on May 10th\, which will conclude with a fireworks display at approximately 8:15pm. \nWhile the event itself is not open to the public\, we wanted to give advance notice as fireworks may be heard in the surrounding area. We appreciate your understanding and thank you for being a great neighbor!
URL:https://www.bolingbrookgolfclub.com/event/fireworks-6/
LOCATION:Bolingbrook Golf Club\, 2001 Rodeo Drive\, Bolingbrook\, IL
CATEGORIES:Fireworks
END:VEVENT
BEGIN:VEVENT
DTSTART;TZID=America/Chicago:20250509T201500
DTEND;TZID=America/Chicago:20250509T204500
DTSTAMP:20260423T160456
CREATED:20250414T200520Z
LAST-MODIFIED:20250421T202038Z
UID:2026-1746821700-1746823500@www.bolingbrookgolfclub.com
SUMMARY:Fireworks for a Private Event
DESCRIPTION:As a courtesy to our neighbors\, we’d like to inform you that Bolingbrook Golf Club will be hosting a private event on May 9th\, which will conclude with a fireworks display at approximately 8:15pm. \nWhile the event itself is not open to the public\, we wanted to give advance notice as fireworks may be heard in the surrounding area. We appreciate your understanding and thank you for being a great neighbor!
URL:https://www.bolingbrookgolfclub.com/event/fireworks-5/
LOCATION:IL
CATEGORIES:Fireworks
END:VEVENT
BEGIN:VEVENT
DTSTART;TZID=America/Chicago:20250503T201500
DTEND;TZID=America/Chicago:20250503T204500
DTSTAMP:20260423T160456
CREATED:20250414T200343Z
LAST-MODIFIED:20250618T194010Z
UID:2024-1746303300-1746305100@www.bolingbrookgolfclub.com
SUMMARY:Fireworks for a Private Event
DESCRIPTION:As a courtesy to our neighbors\, we’d like to inform you that Bolingbrook Golf Club will be hosting a private event on May 3rd\, which will conclude with a fireworks display at approximately 8:15pm. \nWhile the event itself is not open to the public\, we wanted to give advance notice as fireworks may be heard in the surrounding area. We appreciate your understanding and thank you for being a great neighbor!
URL:https://www.bolingbrookgolfclub.com/event/fireworks-4/
LOCATION:Bolingbrook Golf Club\, 2001 Rodeo Drive\, Bolingbrook\, IL
CATEGORIES:Fireworks
END:VEVENT
BEGIN:VEVENT
DTSTART;TZID=America/Chicago:20250502T201500
DTEND;TZID=America/Chicago:20250502T204500
DTSTAMP:20260423T160456
CREATED:20250414T200228Z
LAST-MODIFIED:20250421T201911Z
UID:2022-1746216900-1746218700@www.bolingbrookgolfclub.com
SUMMARY:Fireworks for a Private Event
DESCRIPTION:As a courtesy to our neighbors\, we’d like to inform you that Bolingbrook Golf Club will be hosting a private event on May 2nd\, which will conclude with a fireworks display at approximately 8:15pm. \nWhile the event itself is not open to the public\, we wanted to give advance notice as fireworks may be heard in the surrounding area. We appreciate your understanding and thank you for being a great neighbor!
URL:https://www.bolingbrookgolfclub.com/event/fireworks-3/
LOCATION:Bolingbrook Golf Club\, 2001 Rodeo Drive\, Bolingbrook\, IL
CATEGORIES:Fireworks
END:VEVENT
BEGIN:VEVENT
DTSTART;TZID=America/Chicago:20250427T201500
DTEND;TZID=America/Chicago:20250427T204500
DTSTAMP:20260423T160456
CREATED:20250414T200100Z
LAST-MODIFIED:20250421T201808Z
UID:2020-1745784900-1745786700@www.bolingbrookgolfclub.com
SUMMARY:Fireworks for a Private Event
DESCRIPTION:As a courtesy to our neighbors\, we’d like to inform you that Bolingbrook Golf Club will be hosting a private event on April 27th\, which will conclude with a fireworks display at approximately 8:15pm. \nWhile the event itself is not open to the public\, we wanted to give advance notice as fireworks may be heard in the surrounding area. We appreciate your understanding and thank you for being a great neighbor!
URL:https://www.bolingbrookgolfclub.com/event/fireworks-2/
LOCATION:Bolingbrook Golf Club\, 2001 Rodeo Drive\, Bolingbrook\, IL
CATEGORIES:Fireworks
END:VEVENT
BEGIN:VEVENT
DTSTART;TZID=America/Chicago:20250426T210000
DTEND;TZID=America/Chicago:20250426T213000
DTSTAMP:20260423T160456
CREATED:20250414T195830Z
LAST-MODIFIED:20250421T201715Z
UID:2018-1745701200-1745703000@www.bolingbrookgolfclub.com
SUMMARY:Fireworks for a Private Event
DESCRIPTION:As a courtesy to our neighbors\, we’d like to inform you that Bolingbrook Golf Club will be hosting a private event on April 26th\, which will conclude with a fireworks display at approximately 9:00pm. \nWhile the event itself is not open to the public\, we wanted to give advance notice as fireworks may be heard in the surrounding area. We appreciate your understanding and thank you for being a great neighbor!
URL:https://www.bolingbrookgolfclub.com/event/fireworks/
LOCATION:Bolingbrook Golf Club\, 2001 Rodeo Drive\, Bolingbrook\, IL
CATEGORIES:Fireworks
END:VEVENT
END:VCALENDAR