BEGIN:VCALENDAR
VERSION:2.0
PRODID:-//Bolingbrook Golf Club - ECPv6.15.18//NONSGML v1.0//EN
CALSCALE:GREGORIAN
METHOD:PUBLISH
X-WR-CALNAME:Bolingbrook Golf Club
X-ORIGINAL-URL:https://www.bolingbrookgolfclub.com
X-WR-CALDESC:Events for Bolingbrook Golf Club
REFRESH-INTERVAL;VALUE=DURATION:PT1H
X-Robots-Tag:noindex
X-PUBLISHED-TTL:PT1H
BEGIN:VTIMEZONE
TZID:America/Chicago
BEGIN:DAYLIGHT
TZOFFSETFROM:-0600
TZOFFSETTO:-0500
TZNAME:CDT
DTSTART:20250309T080000
END:DAYLIGHT
BEGIN:STANDARD
TZOFFSETFROM:-0500
TZOFFSETTO:-0600
TZNAME:CST
DTSTART:20251102T070000
END:STANDARD
BEGIN:DAYLIGHT
TZOFFSETFROM:-0600
TZOFFSETTO:-0500
TZNAME:CDT
DTSTART:20260308T080000
END:DAYLIGHT
BEGIN:STANDARD
TZOFFSETFROM:-0500
TZOFFSETTO:-0600
TZNAME:CST
DTSTART:20261101T070000
END:STANDARD
BEGIN:DAYLIGHT
TZOFFSETFROM:-0600
TZOFFSETTO:-0500
TZNAME:CDT
DTSTART:20270314T080000
END:DAYLIGHT
BEGIN:STANDARD
TZOFFSETFROM:-0500
TZOFFSETTO:-0600
TZNAME:CST
DTSTART:20271107T070000
END:STANDARD
END:VTIMEZONE
BEGIN:VEVENT
DTSTART;VALUE=DATE:20260504
DTEND;VALUE=DATE:20260505
DTSTAMP:20260421T213040
CREATED:20260309T185612Z
LAST-MODIFIED:20260417T221225Z
UID:3496-1777852800-1777939199@www.bolingbrookgolfclub.com
SUMMARY:Fiesta on the Fairway Scramble
DESCRIPTION:Celebrate Cinco de Mayo weekend the Bolingbrook way with our Fiesta on the Fairway Scramble\, an afternoon of golf\, energy\, and a little extra flavor on the course. \nSet for Monday\, May 4 at 12:00 PM (shotgun start)\, this 2-person scramble brings together friendly competition and a lively atmosphere designed for players of all skill levels. Scramble formats keep things moving and enjoyable\, allowing teams to play the best shot and work together throughout the round. \nExpect more than just golf. We’re turning the course into a full experience with on-course contests\, festive touches\, and a taco bar with beverage tickets to keep the celebration going. The party starts at registration\, with Dobel Tequila on-site to get everyone in the spirit before you even tee off. \nEntry includes tournament play on our championship course\, team prizes\, and event-day food and drinks. \n\nPublic: $150 per player\nBolingbrook Residents: $125 per player\nMembers: $100 per player\n\nSpots are limited\, grab a partner and get signed up. \n👉 Register here
URL:https://www.bolingbrookgolfclub.com/event/cinco-de-mayo-scramble/
LOCATION:Bolingbrook Golf Club\, 2001 Rodeo Drive\, Bolingbrook\, IL
CATEGORIES:Fiesta on the Fairway,Tournaments
END:VEVENT
END:VCALENDAR