BEGIN:VCALENDAR
VERSION:2.0
PRODID:-//Bolingbrook Golf Club - ECPv6.15.18//NONSGML v1.0//EN
CALSCALE:GREGORIAN
METHOD:PUBLISH
X-WR-CALNAME:Bolingbrook Golf Club
X-ORIGINAL-URL:https://www.bolingbrookgolfclub.com
X-WR-CALDESC:Events for Bolingbrook Golf Club
REFRESH-INTERVAL;VALUE=DURATION:PT1H
X-Robots-Tag:noindex
X-PUBLISHED-TTL:PT1H
BEGIN:VTIMEZONE
TZID:America/Chicago
BEGIN:DAYLIGHT
TZOFFSETFROM:-0600
TZOFFSETTO:-0500
TZNAME:CDT
DTSTART:20240310T080000
END:DAYLIGHT
BEGIN:STANDARD
TZOFFSETFROM:-0500
TZOFFSETTO:-0600
TZNAME:CST
DTSTART:20241103T070000
END:STANDARD
BEGIN:DAYLIGHT
TZOFFSETFROM:-0600
TZOFFSETTO:-0500
TZNAME:CDT
DTSTART:20250309T080000
END:DAYLIGHT
BEGIN:STANDARD
TZOFFSETFROM:-0500
TZOFFSETTO:-0600
TZNAME:CST
DTSTART:20251102T070000
END:STANDARD
BEGIN:DAYLIGHT
TZOFFSETFROM:-0600
TZOFFSETTO:-0500
TZNAME:CDT
DTSTART:20260308T080000
END:DAYLIGHT
BEGIN:STANDARD
TZOFFSETFROM:-0500
TZOFFSETTO:-0600
TZNAME:CST
DTSTART:20261101T070000
END:STANDARD
END:VTIMEZONE
BEGIN:VEVENT
DTSTART;TZID=America/Chicago:20250916T090000
DTEND;TZID=America/Chicago:20250916T170000
DTSTAMP:20260420T171221
CREATED:20250910T205059Z
LAST-MODIFIED:20250910T214310Z
UID:2698-1758013200-1758042000@www.bolingbrookgolfclub.com
SUMMARY:2025 Senior Scramble
DESCRIPTION:2025 Senior Scramble \nTuesday\, September 16th  \n9:00 am Tee times \n  \n“Golf is a puzzle without an answer. I’ve played the game for 50 years and I still haven’t the slightest idea of how to play.” – Gary Player \n  \n18-Hole Four-Person Senior Scramble \nOpen to Ladies and Gentlemen 55 years young and over \n  \nGuests Encouraged \nCost:  $80 per guest \n(Members:  $45 per member) \n  \nPrice Includes:   \nGreens Fee\, Cart\, Range Balls\, Prizes\, and hot dog lunch \n*For more information email rmclaughlin@bolingbrookgolfclub.com\, \nor call (630) 771-9400 ext. 4068 \nRegister Now
URL:https://www.bolingbrookgolfclub.com/event/2025-senior-scramble/
LOCATION:Bolingbrook Golf Club\, 2001 Rodeo Drive\, Bolingbrook\, IL
END:VEVENT
END:VCALENDAR