BEGIN:VCALENDAR
VERSION:2.0
PRODID:-//Bolingbrook Golf Club - ECPv6.15.18//NONSGML v1.0//EN
CALSCALE:GREGORIAN
METHOD:PUBLISH
X-WR-CALNAME:Bolingbrook Golf Club
X-ORIGINAL-URL:https://www.bolingbrookgolfclub.com
X-WR-CALDESC:Events for Bolingbrook Golf Club
REFRESH-INTERVAL;VALUE=DURATION:PT1H
X-Robots-Tag:noindex
X-PUBLISHED-TTL:PT1H
BEGIN:VTIMEZONE
TZID:America/Chicago
BEGIN:DAYLIGHT
TZOFFSETFROM:-0600
TZOFFSETTO:-0500
TZNAME:CDT
DTSTART:20240310T080000
END:DAYLIGHT
BEGIN:STANDARD
TZOFFSETFROM:-0500
TZOFFSETTO:-0600
TZNAME:CST
DTSTART:20241103T070000
END:STANDARD
BEGIN:DAYLIGHT
TZOFFSETFROM:-0600
TZOFFSETTO:-0500
TZNAME:CDT
DTSTART:20250309T080000
END:DAYLIGHT
BEGIN:STANDARD
TZOFFSETFROM:-0500
TZOFFSETTO:-0600
TZNAME:CST
DTSTART:20251102T070000
END:STANDARD
BEGIN:DAYLIGHT
TZOFFSETFROM:-0600
TZOFFSETTO:-0500
TZNAME:CDT
DTSTART:20260308T080000
END:DAYLIGHT
BEGIN:STANDARD
TZOFFSETFROM:-0500
TZOFFSETTO:-0600
TZNAME:CST
DTSTART:20261101T070000
END:STANDARD
END:VTIMEZONE
BEGIN:VEVENT
DTSTART;TZID=America/Chicago:20250726T100000
DTEND;TZID=America/Chicago:20250726T110000
DTSTAMP:20260420T171240
CREATED:20250627T221846Z
LAST-MODIFIED:20250627T221846Z
UID:2555-1753524000-1753527600@www.bolingbrookgolfclub.com
SUMMARY:Short Game Clinic
DESCRIPTION:
URL:https://www.bolingbrookgolfclub.com/event/short-game-clinic-5/
LOCATION:Bolingbrook Golf Club\, 2001 Rodeo Drive\, Bolingbrook\, IL
CATEGORIES:Golf Academy Events
END:VEVENT
BEGIN:VEVENT
DTSTART;TZID=America/Chicago:20250726T170000
DTEND;TZID=America/Chicago:20250726T220000
DTSTAMP:20260420T171240
CREATED:20250627T223608Z
LAST-MODIFIED:20250721T212212Z
UID:2576-1753549200-1753567200@www.bolingbrookgolfclub.com
SUMMARY:Surf & Turf Night at the Nest
DESCRIPTION: 
URL:https://www.bolingbrookgolfclub.com/event/hook-hoof-night-at-the-nest/
LOCATION:The Nest Bar & Grill\, 2001 Rodeo Dr\, Bolingbrook\, IL\, 60490\, United States
CATEGORIES:Surf & Turf Night,The Nest Bar & Grill
END:VEVENT
BEGIN:VEVENT
DTSTART;TZID=America/Chicago:20250726T203000
DTEND;TZID=America/Chicago:20250726T210000
DTSTAMP:20260420T171240
CREATED:20250618T193726Z
LAST-MODIFIED:20250618T193726Z
UID:2376-1753561800-1753563600@www.bolingbrookgolfclub.com
SUMMARY:Fireworks for a Private Event
DESCRIPTION:As a courtesy to our neighbors\, we’d like to inform you that Bolingbrook Golf Club will be hosting a private event on July 26th\, which will conclude with a fireworks display at approximately 8:30pm. \nWhile the event itself is not open to the public\, we wanted to give advance notice as fireworks may be heard in the surrounding area. We appreciate your understanding and thank you for being a great neighbor!
URL:https://www.bolingbrookgolfclub.com/event/fireworks-for-a-private-event-14/
LOCATION:Bolingbrook Golf Club\, 2001 Rodeo Drive\, Bolingbrook\, IL
CATEGORIES:Fireworks
END:VEVENT
END:VCALENDAR