BEGIN:VCALENDAR
VERSION:2.0
PRODID:-//Bolingbrook Golf Club - ECPv6.15.18//NONSGML v1.0//EN
CALSCALE:GREGORIAN
METHOD:PUBLISH
X-WR-CALNAME:Bolingbrook Golf Club
X-ORIGINAL-URL:https://www.bolingbrookgolfclub.com
X-WR-CALDESC:Events for Bolingbrook Golf Club
REFRESH-INTERVAL;VALUE=DURATION:PT1H
X-Robots-Tag:noindex
X-PUBLISHED-TTL:PT1H
BEGIN:VTIMEZONE
TZID:America/Chicago
BEGIN:DAYLIGHT
TZOFFSETFROM:-0600
TZOFFSETTO:-0500
TZNAME:CDT
DTSTART:20240310T080000
END:DAYLIGHT
BEGIN:STANDARD
TZOFFSETFROM:-0500
TZOFFSETTO:-0600
TZNAME:CST
DTSTART:20241103T070000
END:STANDARD
BEGIN:DAYLIGHT
TZOFFSETFROM:-0600
TZOFFSETTO:-0500
TZNAME:CDT
DTSTART:20250309T080000
END:DAYLIGHT
BEGIN:STANDARD
TZOFFSETFROM:-0500
TZOFFSETTO:-0600
TZNAME:CST
DTSTART:20251102T070000
END:STANDARD
BEGIN:DAYLIGHT
TZOFFSETFROM:-0600
TZOFFSETTO:-0500
TZNAME:CDT
DTSTART:20260308T080000
END:DAYLIGHT
BEGIN:STANDARD
TZOFFSETFROM:-0500
TZOFFSETTO:-0600
TZNAME:CST
DTSTART:20261101T070000
END:STANDARD
END:VTIMEZONE
BEGIN:VEVENT
DTSTART;VALUE=DATE:20250607
DTEND;VALUE=DATE:20250608
DTSTAMP:20260420T183954
CREATED:20250529T183005Z
LAST-MODIFIED:20250529T183005Z
UID:2217-1749254400-1749340799@www.bolingbrookgolfclub.com
SUMMARY:Course Closure Notice
DESCRIPTION:Please note that Bolingbrook Golf Club’s course and practice facilities will be closed on Saturday\, June 7th for a private event. \nTee times will be unavailable for the day. \nHowever\, the Bolingbrook Golf Academy and its facilities will remain open and operate as scheduled. \nWe appreciate your understanding and look forward to welcoming you back to the course on June 8th. \nFor questions or to book future tee times\, please contact the Golf Shop at (630) 771-9400 x4001.
URL:https://www.bolingbrookgolfclub.com/event/course-closure-notice-2/
LOCATION:Bolingbrook Golf Club\, 2001 Rodeo Drive\, Bolingbrook\, IL
END:VEVENT
BEGIN:VEVENT
DTSTART;TZID=America/Chicago:20250607T100000
DTEND;TZID=America/Chicago:20250607T140000
DTSTAMP:20260420T183954
CREATED:20250212T183936Z
LAST-MODIFIED:20250505T160522Z
UID:1846-1749290400-1749304800@www.bolingbrookgolfclub.com
SUMMARY:Srixon Fitting & Clinic
DESCRIPTION:Experience the latest in golf tech and expert club fittings! \nJoin us on select dates for a personalized Srixon fitting session with top professionals\, tailored to your swing and skill level. Whether you’re dialing in your driver or just getting started\, it’s the perfect opportunity to elevate your game. \nSharpen your short game during the Wedge Clinic\, designed to help you master those scoring shots around the green. \nClick to sign-up
URL:https://www.bolingbrookgolfclub.com/event/srixon-fitting-2/
LOCATION:Bolingbrook Golf Club\, 2001 Rodeo Drive\, Bolingbrook\, IL
CATEGORIES:Srixon Fitting
END:VEVENT
END:VCALENDAR