BEGIN:VCALENDAR
VERSION:2.0
PRODID:-//Bolingbrook Golf Club - ECPv6.15.18//NONSGML v1.0//EN
CALSCALE:GREGORIAN
METHOD:PUBLISH
X-ORIGINAL-URL:https://www.bolingbrookgolfclub.com
X-WR-CALDESC:Events for Bolingbrook Golf Club
REFRESH-INTERVAL;VALUE=DURATION:PT1H
X-Robots-Tag:noindex
X-PUBLISHED-TTL:PT1H
BEGIN:VTIMEZONE
TZID:America/Chicago
BEGIN:DAYLIGHT
TZOFFSETFROM:-0600
TZOFFSETTO:-0500
TZNAME:CDT
DTSTART:20240310T080000
END:DAYLIGHT
BEGIN:STANDARD
TZOFFSETFROM:-0500
TZOFFSETTO:-0600
TZNAME:CST
DTSTART:20241103T070000
END:STANDARD
BEGIN:DAYLIGHT
TZOFFSETFROM:-0600
TZOFFSETTO:-0500
TZNAME:CDT
DTSTART:20250309T080000
END:DAYLIGHT
BEGIN:STANDARD
TZOFFSETFROM:-0500
TZOFFSETTO:-0600
TZNAME:CST
DTSTART:20251102T070000
END:STANDARD
BEGIN:DAYLIGHT
TZOFFSETFROM:-0600
TZOFFSETTO:-0500
TZNAME:CDT
DTSTART:20260308T080000
END:DAYLIGHT
BEGIN:STANDARD
TZOFFSETFROM:-0500
TZOFFSETTO:-0600
TZNAME:CST
DTSTART:20261101T070000
END:STANDARD
END:VTIMEZONE
BEGIN:VEVENT
DTSTART;VALUE=DATE:20250506
DTEND;VALUE=DATE:20250507
DTSTAMP:20260420T171327
CREATED:20250502T153106Z
LAST-MODIFIED:20250502T153106Z
UID:2068-1746489600-1746575999@www.bolingbrookgolfclub.com
SUMMARY:Course Aeration Notice
DESCRIPTION:Please note that our course will undergo scheduled aeration on Tuesday\, May 6. This essential maintenance helps keep our greens healthy\, smooth\, and in top playing condition for the season ahead. We appreciate your understanding as we work to ensure the best possible golf experience.
URL:https://www.bolingbrookgolfclub.com/event/course-aeration-notice/
LOCATION:Bolingbrook Golf Club\, 2001 Rodeo Drive\, Bolingbrook\, IL
END:VEVENT
END:VCALENDAR