BEGIN:VCALENDAR
VERSION:2.0
PRODID:-//Bolingbrook Golf Club - ECPv6.15.18//NONSGML v1.0//EN
CALSCALE:GREGORIAN
METHOD:PUBLISH
X-WR-CALNAME:Bolingbrook Golf Club
X-ORIGINAL-URL:https://www.bolingbrookgolfclub.com
X-WR-CALDESC:Events for Bolingbrook Golf Club
REFRESH-INTERVAL;VALUE=DURATION:PT1H
X-Robots-Tag:noindex
X-PUBLISHED-TTL:PT1H
BEGIN:VTIMEZONE
TZID:America/Chicago
BEGIN:DAYLIGHT
TZOFFSETFROM:-0600
TZOFFSETTO:-0500
TZNAME:CDT
DTSTART:20240310T080000
END:DAYLIGHT
BEGIN:STANDARD
TZOFFSETFROM:-0500
TZOFFSETTO:-0600
TZNAME:CST
DTSTART:20241103T070000
END:STANDARD
BEGIN:DAYLIGHT
TZOFFSETFROM:-0600
TZOFFSETTO:-0500
TZNAME:CDT
DTSTART:20250309T080000
END:DAYLIGHT
BEGIN:STANDARD
TZOFFSETFROM:-0500
TZOFFSETTO:-0600
TZNAME:CST
DTSTART:20251102T070000
END:STANDARD
BEGIN:DAYLIGHT
TZOFFSETFROM:-0600
TZOFFSETTO:-0500
TZNAME:CDT
DTSTART:20260308T080000
END:DAYLIGHT
BEGIN:STANDARD
TZOFFSETFROM:-0500
TZOFFSETTO:-0600
TZNAME:CST
DTSTART:20261101T070000
END:STANDARD
END:VTIMEZONE
BEGIN:VEVENT
DTSTART;TZID=America/Chicago:20250426T170000
DTEND;TZID=America/Chicago:20250426T220000
DTSTAMP:20260422T021402
CREATED:20250212T171522Z
LAST-MODIFIED:20250212T171522Z
UID:1826-1745686800-1745704800@www.bolingbrookgolfclub.com
SUMMARY:Seafood Night at The Nest
DESCRIPTION:Dive into our Seafood Night at The Nest on April 26th at 5pm\, where we celebrate the sea’s finest offerings! The night promises a delectable array of fresh and flavorful dishes\, paired with refreshing drinks! \nWhether you’re a longtime seafood lover or just looking to try something new\, this event is perfect for everyone. Bring your friends and family for a night of great food\, good company\, and a lively atmosphere. We can’t wait to see you there! \nStay tuned — our special menu will be live soon\, so you can get a sneak peek of the delights we have in store for you! Check our Instagram and Facebook for menu updates!
URL:https://www.bolingbrookgolfclub.com/event/seafood-night-at-the-nest-4/
LOCATION:The Nest Bar & Grill\, 2001 Rodeo Dr\, Bolingbrook\, IL\, 60490\, United States
CATEGORIES:Seafood Night,The Nest Bar & Grill
END:VEVENT
BEGIN:VEVENT
DTSTART;TZID=America/Chicago:20250426T210000
DTEND;TZID=America/Chicago:20250426T213000
DTSTAMP:20260422T021402
CREATED:20250414T195830Z
LAST-MODIFIED:20250421T201715Z
UID:2018-1745701200-1745703000@www.bolingbrookgolfclub.com
SUMMARY:Fireworks for a Private Event
DESCRIPTION:As a courtesy to our neighbors\, we’d like to inform you that Bolingbrook Golf Club will be hosting a private event on April 26th\, which will conclude with a fireworks display at approximately 9:00pm. \nWhile the event itself is not open to the public\, we wanted to give advance notice as fireworks may be heard in the surrounding area. We appreciate your understanding and thank you for being a great neighbor!
URL:https://www.bolingbrookgolfclub.com/event/fireworks/
LOCATION:Bolingbrook Golf Club\, 2001 Rodeo Drive\, Bolingbrook\, IL
CATEGORIES:Fireworks
END:VEVENT
END:VCALENDAR